BEGIN:VCALENDAR
VERSION:2.0
PRODID:-//Agentur der Wirtschaft - ECPv5.3.2//NONSGML v1.0//EN
CALSCALE:GREGORIAN
METHOD:PUBLISH
X-WR-CALNAME:Agentur der Wirtschaft
X-ORIGINAL-URL:https://weiterbildung-adwi.de
X-WR-CALDESC:Veranstaltungen für Agentur der Wirtschaft
BEGIN:VTIMEZONE
TZID:Europe/Berlin
BEGIN:DAYLIGHT
TZOFFSETFROM:+0100
TZOFFSETTO:+0200
TZNAME:CEST
DTSTART:20240331T010000
END:DAYLIGHT
BEGIN:STANDARD
TZOFFSETFROM:+0200
TZOFFSETTO:+0100
TZNAME:CET
DTSTART:20241027T010000
END:STANDARD
END:VTIMEZONE
BEGIN:VEVENT
DTSTART;TZID=Europe/Berlin:20240702T090000
DTEND;TZID=Europe/Berlin:20240702T163000
DTSTAMP:20260426T054348
CREATED:20200305T091536Z
LAST-MODIFIED:20240523T095256Z
UID:4587-1719910800-1719937800@weiterbildung-adwi.de
SUMMARY:Stärker als der Stress
DESCRIPTION:So finden Sie mehr Gelassenheit im Alltag\nWillkommen zum Seminar „Stärker als Stress“ – Ihr Weg zu innerer Stärke und Resilienz. In einer Welt\, die ständig in Bewegung ist\, ist es entscheidend\, Ihre Stressbewältigungsfähigkeiten zu stärken und mehr Gelassenheit im Alltag zu finden. Tauchen Sie ein in eine Reise der Selbstentdeckung und erlernen Sie wertvolle Techniken\, um stressigen Situationen mit Zuversicht und innerer Ruhe zu begegnen. \nInvestieren Sie in Ihre eigene mentale Gesundheit und Ihr Wohlbefinden. „Stärker als Stress“ bietet Ihnen nicht nur wertvolles Wissen\, sondern auch praktische Werkzeuge\, um Ihre Resilienz zu stärken. Entdecken Sie Ihre innere Stärke und meistern Sie stressige Situationen mit mehr Selbstvertrauen. Melden Sie sich jetzt an und beginnen Sie Ihre Reise zu einem stressfreien und erfüllteren Leben. \nInhalte\n\nGrundlagen der aktuellen Stress- und Resilienzforschung\nReflexion eigener Werte\, Glaubenssätze und Ressourcen\nEntwicklung einer individuellen Stresskompetenz\nKennenlernen und Erprobung alltagsnaher Achtsamkeits- und Entspannungsübungen\n\nDas Seminar richtet sich an alle Interessierte. \nJetzt anmelden
URL:https://weiterbildung-adwi.de/seminar/staerker_als_der_stress-7-24/
LOCATION:AGENTUR DER WIRTSCHAFT\, Doberaner Straße 112\, Rostock\, 18057\, Deutschland
CATEGORIES:Gesundheit,Persönlichkeit,Seminare
ATTACH;FMTTYPE=image/jpeg:https://weiterbildung-adwi.de/wp-content/uploads/2020/04/raus-aus-stressfalle.jpg
GEO:54.092117;12.113716
X-APPLE-STRUCTURED-LOCATION;VALUE=URI;X-ADDRESS=AGENTUR DER WIRTSCHAFT Doberaner Straße 112 Rostock 18057 Deutschland;X-APPLE-RADIUS=500;X-TITLE=Doberaner Straße 112:geo:12.113716,54.092117
END:VEVENT
BEGIN:VEVENT
DTSTART;TZID=Europe/Berlin:20240702T090000
DTEND;TZID=Europe/Berlin:20240702T090000
DTSTAMP:20260426T054348
CREATED:20200305T091536Z
LAST-MODIFIED:20240312T101054Z
UID:4735-1719910800-1719910800@weiterbildung-adwi.de
SUMMARY:Rechte und Pflichten des Betriebsrates
DESCRIPTION:Ziel\nDas Seminar erläutert Ihnen praxisbezogen die Rolle\, die Pflichten und die Mitwirkungsrechte des Betriebsrates. \nInhalte\n\nInformations- bzw. Unterrichtungsrechte\nAnhörungsrechte\nBeratungs- und Vorschlagrechte\nZustimmungsverweigerungsrechte\nMitbestimmungsrechte\n\nTeilnehmerkreis\nDas Seminar richtet sich an alle Interessierte\, Personalentscheider und Betriebsräte. \nJetzt anmelden
URL:https://weiterbildung-adwi.de/seminar/rechte-und-pflichten-des-betriebsrates/
LOCATION:AGENTUR DER WIRTSCHAFT\, Doberaner Straße 112\, Rostock\, 18057\, Deutschland
CATEGORIES:Arbeit und Sozial,Betriebsrat,Recht,Seminare
ATTACH;FMTTYPE=image/jpeg:https://weiterbildung-adwi.de/wp-content/uploads/2020/03/500_F_253071345_ody19dDGUBj7uGp0rA61ZffDQJ7yJX5y.jpg
GEO:54.092117;12.113716
X-APPLE-STRUCTURED-LOCATION;VALUE=URI;X-ADDRESS=AGENTUR DER WIRTSCHAFT Doberaner Straße 112 Rostock 18057 Deutschland;X-APPLE-RADIUS=500;X-TITLE=Doberaner Straße 112:geo:12.113716,54.092117
END:VEVENT
BEGIN:VEVENT
DTSTART;TZID=Europe/Berlin:20240715T090000
DTEND;TZID=Europe/Berlin:20240715T161500
DTSTAMP:20260426T054348
CREATED:20200305T091536Z
LAST-MODIFIED:20240105T103817Z
UID:4081-1721034000-1721060100@weiterbildung-adwi.de
SUMMARY:Resilienz- Der Weg zu mehr inneren Stärke
DESCRIPTION:In immer komplexeren sowie herausfordernden Zeiten stellen sich jedem von uns die Fragen: \n• Wie sieht es mit meiner inneren Widerstandskraft aus?\n• Wie resilient bin ich?\n• Welche Potenziale schlummern in mir?\n• Wie kann ich meine Kompetenz in den 10 Resilienzfaktoren verbessern? \nDieses Training trägt dazu bei\, das allgemeine Wohlbefinden und die Zufriedenheit am Arbeitsplatz zu verbessern\, die Produktivität zu steigern und das Risiko von Burnout zu reduzieren. Darüber hinaus verfolgt dieses Training das Ziel\, eine stärkere und widerstandsfähigere Belegschaft zu schaffen\, die besser in der Lage ist\, mit Veränderungen und Herausforderungen umzugehen. \nIhr Nutzen\nResilienz ist kein Selbstläufer. Wer die eigene Resilienzkompetenz ausbauen möchte\, kommt nicht umhin\, sich intensiv mit sich selbst und den zentralen Faktoren der Resilienz zu beschäftigen. Nur ein solcher Reflexionsprozess eröffnet den Weg in ein gelasseneres Leben.\nWenn Sie innere Widerstandsfähigkeit in Ihrem Leben entwickeln wollen\, sind Resilienzfaktoren relevant. Jeder Faktor hilft Ihnen dabei\, innere Stärke aufzubauen\, doch mit jeweils anderem Fokus.\nWenn Sie Ihre Resilienz steigern wollen\, ist es sinnvoll\, Schritt für Schritt alle Resilienzfaktoren zu reflektieren und dann Veränderungen in Ihrem Leben umzusetzen. \nInhalte\n\nEinstieg in das Thema Resilienz\nBlick auf die eigenen Ressourcen\nDer eigenen Resilienzkompetenz auf der Spur\nDas persolog® Resilienz-Profil\nDie 4 Bereiche der Resilienz\nResilienzfaktoren verstehen und analysieren\nIhr Weg um die innere Stärke zu stärken – Methoden\nEntwicklung eines positiven Mindsets\nVerbesserung der Problemlösungsfähigkeiten\nStärkung der emotionalen Intelligenz\n\nTeilnehmerkreis\nDas Seminar richtet sich an alle Interessierte. \nJetzt anmelden
URL:https://weiterbildung-adwi.de/seminar/resilienz-2/
LOCATION:AGENTUR DER WIRTSCHAFT\, Doberaner Straße 112\, Rostock\, 18057\, Deutschland
CATEGORIES:Gesundheit,Persönlichkeit,Seminare
ATTACH;FMTTYPE=image/jpeg:https://weiterbildung-adwi.de/wp-content/uploads/2020/04/raus-aus-stressfalle.jpg
GEO:54.092117;12.113716
X-APPLE-STRUCTURED-LOCATION;VALUE=URI;X-ADDRESS=AGENTUR DER WIRTSCHAFT Doberaner Straße 112 Rostock 18057 Deutschland;X-APPLE-RADIUS=500;X-TITLE=Doberaner Straße 112:geo:12.113716,54.092117
END:VEVENT
END:VCALENDAR