BEGIN:VCALENDAR
VERSION:2.0
PRODID:-//Agentur der Wirtschaft - ECPv5.3.2//NONSGML v1.0//EN
CALSCALE:GREGORIAN
METHOD:PUBLISH
X-WR-CALNAME:Agentur der Wirtschaft
X-ORIGINAL-URL:https://weiterbildung-adwi.de
X-WR-CALDESC:Veranstaltungen für Agentur der Wirtschaft
BEGIN:VTIMEZONE
TZID:Europe/Berlin
BEGIN:DAYLIGHT
TZOFFSETFROM:+0100
TZOFFSETTO:+0200
TZNAME:CEST
DTSTART:20240331T010000
END:DAYLIGHT
BEGIN:STANDARD
TZOFFSETFROM:+0200
TZOFFSETTO:+0100
TZNAME:CET
DTSTART:20241027T010000
END:STANDARD
END:VTIMEZONE
BEGIN:VEVENT
DTSTART;TZID=Europe/Berlin:20240508T090000
DTEND;TZID=Europe/Berlin:20240508T163000
DTSTAMP:20260425T161432
CREATED:20200305T131534Z
LAST-MODIFIED:20240419T111053Z
UID:4585-1715158800-1715185800@weiterbildung-adwi.de
SUMMARY:EINFACH miteinander reden "Konfliktmanagement"
DESCRIPTION:Die Kunst der Konfliktlösung\nWer schweigt\, will dem anderem damit etwas sagen. \nIn einer Welt\, in der Zusammenarbeit und Kommunikation von entscheidender Bedeutung sind\, ist die Fähigkeit\, Konflikte zu erkennen\, anzugehen und konstruktiv zu lösen\, von unschätzbarem Wert. Tauchen Sie mit uns ein in die Kunst des Konfliktmanagements und erwerben Sie praktische Werkzeuge und Erkenntnisse\, um Konflikte in Chancen für Wachstum und positive Veränderungen zu verwandeln. \nIm Seminar geht’s zur Sache. Kurze Theorieblöcke gefolgt von anspruchsvollen Gruppenarbeiten und intensiver Bearbeitung praxisrelevanter Fallbeispiele.\nRaus aus der Komfortzone. Rein in das gute Gefühl eines prozess- und lebensverändernden Konfliktgespräches. \nInhalte \n\nKonfliktarten und Konfliktdynamik – Was passiert wenn nichts passiert.\nKlare Gesprächsstrukturen für individuelle Konfliktfälle\nDas 1×1 der Vorbereitung/ Durchführung & Nachbereitung von Konfliktgesprächen\nDie innere Haltung kennen und ausrichten für maximale Lösungsorientierung\nPersönliche Angriffe in konstruktive Bahnen lenken\nPraxisfälle mit Video Feedback\n\nTeilnehmerkreis \nDas Seminar richtet sich an alle Neugierige. \nJetzt anmelden
URL:https://weiterbildung-adwi.de/seminar/einfach-miteinander-reden_05-24/
LOCATION:AGENTUR DER WIRTSCHAFT\, Doberaner Straße 112\, Rostock\, 18057\, Deutschland
CATEGORIES:Persönlichkeit,Seminare
ATTACH;FMTTYPE=image/jpeg:https://weiterbildung-adwi.de/wp-content/uploads/2020/03/500_F_314817321_NmdzQRRPe8GScIgMuUS4duCdtBMHEkYS.jpg
GEO:54.092117;12.113716
X-APPLE-STRUCTURED-LOCATION;VALUE=URI;X-ADDRESS=AGENTUR DER WIRTSCHAFT Doberaner Straße 112 Rostock 18057 Deutschland;X-APPLE-RADIUS=500;X-TITLE=Doberaner Straße 112:geo:12.113716,54.092117
END:VEVENT
BEGIN:VEVENT
DTSTART;TZID=Europe/Berlin:20240515T090000
DTEND;TZID=Europe/Berlin:20240515T163000
DTSTAMP:20260425T161432
CREATED:20200305T091536Z
LAST-MODIFIED:20240110T094736Z
UID:4591-1715763600-1715790600@weiterbildung-adwi.de
SUMMARY:Stärker als der Stress
DESCRIPTION:So finden Sie mehr Gelassenheit im Alltag\nWillkommen zum Seminar „Stärker als Stress“ – Ihr Weg zu innerer Stärke und Resilienz. In einer Welt\, die ständig in Bewegung ist\, ist es entscheidend\, Ihre Stressbewältigungsfähigkeiten zu stärken und mehr Gelassenheit im Alltag zu finden. Tauchen Sie ein in eine Reise der Selbstentdeckung und erlernen Sie wertvolle Techniken\, um stressigen Situationen mit Zuversicht und innerer Ruhe zu begegnen. \nInvestieren Sie in Ihre eigene mentale Gesundheit und Ihr Wohlbefinden. „Stärker als Stress“ bietet Ihnen nicht nur wertvolles Wissen\, sondern auch praktische Werkzeuge\, um Ihre Resilienz zu stärken. Entdecken Sie Ihre innere Stärke und meistern Sie stressige Situationen mit mehr Selbstvertrauen. Melden Sie sich jetzt an und beginnen Sie Ihre Reise zu einem stressfreien und erfüllteren Leben. \nInhalte\n\nGrundlagen der aktuellen Stress- und Resilienzforschung\nReflexion eigener Werte\, Glaubenssätze und Ressourcen\nEntwicklung einer individuellen Stresskompetenz\nKennenlernen und Erprobung alltagsnaher Achtsamkeits- und Entspannungsübungen\n\nDas Seminar richtet sich an alle Interessierte. \nJetzt anmelden
URL:https://weiterbildung-adwi.de/seminar/staerker_als_der-stress-05-24/
LOCATION:AGENTUR DER WIRTSCHAFT\, Doberaner Straße 112\, Rostock\, 18057\, Deutschland
CATEGORIES:Gesundheit,Persönlichkeit,Seminare
ATTACH;FMTTYPE=image/jpeg:https://weiterbildung-adwi.de/wp-content/uploads/2020/04/raus-aus-stressfalle.jpg
GEO:54.092117;12.113716
X-APPLE-STRUCTURED-LOCATION;VALUE=URI;X-ADDRESS=AGENTUR DER WIRTSCHAFT Doberaner Straße 112 Rostock 18057 Deutschland;X-APPLE-RADIUS=500;X-TITLE=Doberaner Straße 112:geo:12.113716,54.092117
END:VEVENT
BEGIN:VEVENT
DTSTART;TZID=Europe/Berlin:20240516T090000
DTEND;TZID=Europe/Berlin:20240516T163000
DTSTAMP:20260425T161432
CREATED:20200305T091536Z
LAST-MODIFIED:20240110T100727Z
UID:4593-1715850000-1715877000@weiterbildung-adwi.de
SUMMARY:Zürcher Ressourcenmodell
DESCRIPTION:Das Praxisseminar für Resilienz und Lebensqualität\nIhr Schlüssel zur persönlichen Entfaltung und beruflichen Erfolg.\nHerzlich willkommen zum Seminar „Das Zürcher Ressourcenmodell“! Wir laden Sie ein\, mit uns auf eine spannende Reise in die Welt des Selbstmanagements und der persönlichen Ressourcen zu gehen. Tauchen Sie ein in die Geheimnisse des Zürcher Ressourcenmodells und erfahren Sie\, wie Sie Ihre Ziele erreichen und erfolgreich mit Ihren Ressourcen umgehen können. \nDas Zürcher Ressourcenmodell ist ein mächtiges Werkzeug zur persönlichen Entwicklung. Es hilft Ihnen dabei\, Ihre eigenen Ressourcen zu erkennen\, zu aktivieren und gezielt einzusetzen\, um Ihre Ziele zu erreichen.\nSie lernen\, wie Sie Ihre Zeit\, Energie und Fähigkeiten effektiv verwalten können. Dies ist sowohl im beruflichen als auch im privaten Kontext von unschätzbarem Wert. \n  \nInhalte\n\nWas ist das Züricher Ressourcenmodell?\nSelbstmanagement Training anhand neurowissenschaftlicher Faktoren\nLernen wie Ressourcen aufgebaut\, gefördert und eingesetzt werden\nMit sich und anderen Ressourcenorientiert umgehen\nVom Wunsch zum Ziel\, Was sind Motto- Ziele?\nVom Ziel zu den Ressourcen\, Strategien- Impulse- Automatismen\n\nTeilnehmerkreis\nDas Seminar richtet sich an alle Interessierte. \nJetzt anmelden
URL:https://weiterbildung-adwi.de/seminar/zrm-05-24/
LOCATION:AGENTUR DER WIRTSCHAFT\, Doberaner Straße 112\, Rostock\, 18057\, Deutschland
CATEGORIES:Gesundheit,Persönlichkeit,Seminare
ATTACH;FMTTYPE=image/jpeg:https://weiterbildung-adwi.de/wp-content/uploads/2020/04/raus-aus-stressfalle.jpg
GEO:54.092117;12.113716
X-APPLE-STRUCTURED-LOCATION;VALUE=URI;X-ADDRESS=AGENTUR DER WIRTSCHAFT Doberaner Straße 112 Rostock 18057 Deutschland;X-APPLE-RADIUS=500;X-TITLE=Doberaner Straße 112:geo:12.113716,54.092117
END:VEVENT
BEGIN:VEVENT
DTSTART;TZID=Europe/Berlin:20240521T090000
DTEND;TZID=Europe/Berlin:20240521T153000
DTSTAMP:20260425T161432
CREATED:20200120T131751Z
LAST-MODIFIED:20240313T094920Z
UID:4752-1716282000-1716305400@weiterbildung-adwi.de
SUMMARY:Excel—Grundlagen
DESCRIPTION:Wichtige Techniken erlernen\, anwenden und festigen\nIhr Nutzen\nWer wenig mit Excel unterwegs ist\, aber grundlegende Techniken für einfache Tabellenbearbeitung benötigt\, ist hier richtig. Der Sprung ins kalte Wasser gelingt mithilfe anschaulicher Übungen ohne dabei tief tauchen zu müssen. \nDas Kalkulationsprogramm Excel ist ein mächtiges Werkzeug\, um Daten in Tabellenform darzustellen und zu berechnen. Die vielfältigen Möglichkeiten von Excel werden in diesem Seminar geordnet und systematisch entwickelt. Sie werden nach dem Seminar eigene Tabellen erstellen\, formatieren und ausdrucken können. Sie legen erste einfache Berechnungen fest\, die sich automatisch bei Änderung der Daten anpassen. Dazu werden Sie sicherer bei der Fensterverwaltung und Sortieren von Daten.\nAlso Badekappe auf und hinein ins Vergnügen.. \nInhalte\n\nAufbau des Programms\, Fenstereinstellungen\, Arbeiten auf der Oberfläche\nTastenkombinationen für schnelleres Arbeiten kennenlernen\nVon der Mappe über das Blatt zu Zelle – Daten eingeben\nSchrift- und Zahlenformate in der Zelle (Datumsformat\, Prozent usw.)\nFormatvorlagen nutzen\, Formate übertragen\, individuell anpassen\nEinfache Berechnungen mit Zellbezügen\nEinfache Formeln und Funktionen (SUMME\, MITTELWERT)\nVerschiedene Zellbezüge einstellen (relativer oder absoluter Bezug)\nDaten sortieren\, suchen und ersetzen\nFenster fixieren\nDruckeinstellungen vornehmen\, Druckbereiche festlegen\n\nTeilnehmerkreis\nDas Seminar richtet sich an Führungskräfte und Mitarbeiter\, die keine oder wenige Erfahrungen mit Excel haben und praktische Grundlagenvermittlung erhalten möchten. \nVoraussetzungen\nDas Seminar ist für alle Neugierige offen. Allgemeine Kenntnisse der Windows Oberfläche sind gewünscht. \nJetzt anmelden
URL:https://weiterbildung-adwi.de/seminar/grundlagen-2024-03-4/
LOCATION:AGENTUR DER WIRTSCHAFT\, Doberaner Straße 112\, Rostock\, 18057\, Deutschland
CATEGORIES:EDV,Excel,Seminare
ATTACH;FMTTYPE=image/jpeg:https://weiterbildung-adwi.de/wp-content/uploads/2020/01/excel-seminar.jpeg
GEO:54.092117;12.113716
X-APPLE-STRUCTURED-LOCATION;VALUE=URI;X-ADDRESS=AGENTUR DER WIRTSCHAFT Doberaner Straße 112 Rostock 18057 Deutschland;X-APPLE-RADIUS=500;X-TITLE=Doberaner Straße 112:geo:12.113716,54.092117
END:VEVENT
BEGIN:VEVENT
DTSTART;TZID=Europe/Berlin:20240522T090000
DTEND;TZID=Europe/Berlin:20240522T153000
DTSTAMP:20260425T161432
CREATED:20200120T131751Z
LAST-MODIFIED:20240313T094920Z
UID:4755-1716368400-1716391800@weiterbildung-adwi.de
SUMMARY:Excel—Aufbau I
DESCRIPTION:Wichtige Funktionen erlernen\, anwenden und festigen\nIhr Nutzen\nWer häufiger mit Excel arbeitet kommt an der Verwendung von Formeln und Funktionen nicht vorbei. Die richtige Schreibweise und der sinnvolle Einsatz dieser Berechnungsanweisungen stehen hier im Mittelpunkt mit einer Reihe praktischer Anwendungen. \nDer Formelassistent steht als Hilfswerkzeug zu Verfügung. Die Funktionen werden erläutert und notwendige Eingaben abgefragt. Im Seminar werden klassische Funktionen aus der Kategorie Datum und Uhrzeit\, Logik und Verweise behandelt. Sie festigen deren Einsatz für Ihre Berechnungen\, erhalten Anregungen zu neuen Lösungen und stärken Ihr Anwendungspotential in Excel. \nUnsere Aufbaukurse richten sich an Anwender\, die spezielle Kenntnisse vertiefen möchten. Sie können die Kurse nacheinander oder auch nur einzeln buchen\, nehmen Sie sich\, was Sie brauchen. \nWer schon das „Seepferdchen“ hat\, bekommt hier den „Seehund“ als Abzeichen \nInhalte\n\nWas sind Formeln\, was Funktionen\nSyntax der Formeln\, Formelüberprüfungen nutzen\nVerschachtelung von Funktionen\nRechnen mit Namen von Zellen\, Namensmanager kennenlernen\nRechnen mit Datum- und Uhrzeitangaben\nDie logische Funktion WENN() und WENNS()\nDie Verweisfunktion SVERWEIS() und XVERWEIS()\nDatenüberprüfung nutzen\, um fehlerhafte Eingaben zu verhindern\nHäufig verwendete Funktionen\, wie ZÄHLENWENN() oder SUMMEWENN() anwenden\n\nTeilnehmerkreis\nDas Seminar richtet sich an Führungskräfte und Mitarbeiter\, die bereits Erfahrungen mit Excel haben und den Einsatz von Formeln und Funktionen festigen möchten. \nVoraussetzungen\nDas Seminar ist für alle Neugierige offen. Excel Grundlagen sind notwendig. \nJetzt anmelden
URL:https://weiterbildung-adwi.de/seminar/excel-aufbau-i-2024-03-4/
LOCATION:AGENTUR DER WIRTSCHAFT\, Doberaner Straße 112\, Rostock\, 18057\, Deutschland
CATEGORIES:EDV,Excel,Seminare
ATTACH;FMTTYPE=image/jpeg:https://weiterbildung-adwi.de/wp-content/uploads/2020/01/excel-seminar.jpeg
GEO:54.092117;12.113716
X-APPLE-STRUCTURED-LOCATION;VALUE=URI;X-ADDRESS=AGENTUR DER WIRTSCHAFT Doberaner Straße 112 Rostock 18057 Deutschland;X-APPLE-RADIUS=500;X-TITLE=Doberaner Straße 112:geo:12.113716,54.092117
END:VEVENT
BEGIN:VEVENT
DTSTART;TZID=Europe/Berlin:20240523T090000
DTEND;TZID=Europe/Berlin:20240523T153000
DTSTAMP:20260425T161432
CREATED:20200120T131751Z
LAST-MODIFIED:20240313T094920Z
UID:4757-1716454800-1716478200@weiterbildung-adwi.de
SUMMARY:Excel—Aufbau II
DESCRIPTION:Daten managen und auswerten\nIhr Nutzen\nDurch viele Datenfelder und Datensätze können schnell Zahlenkolonnen entstehen\, die unübersichtlich sind. Um einen besseren Überblick zu erhalten sind Filter- und Gruppierungsbefehle hilfreich. \nWas ist der Unterschied zwischen Auto- und Spezialfilter? Wann setzte ich welchen Filter nützlich ein? Welche Optionen bietet mir die bedingte Formatierung\, um Werte automatisch hervorzuheben? Und welchen sinnvollen Einsatz bei der Datenanalyse gestatten mir die Datenbankfunktionen in Excel? \nAuf all die Fragen finden Sie im Seminar Antworten\, praktische Hinweise und Lösungsvorschläge. Das Arbeiten mit großen Tabellen ist dann ein Heimspiel. \nÜbersichtlichkeit vs. Datenmenge. Wer gewinnt? \nInhalte\n\nBedingte Formatierungen verwenden\nRegeln erstellen und anpassen\, den Regelmanager verwalten\nDatenbalken\, Farbskalen und Symbolsätze\nFiltertechniken – die Stärken\, Unterschiede und Einsatzmöglichkeiten\nAuto- und Spezialfilter\nSuchkriterien erstellen\nBerechneter Filter\nNach Farben filtern oder sortieren\nGruppierungen von Daten\nAutomatisch oder individuell\nTeilergebnisse anlegen\ngegliederte Teilergebnisse\nDatenbankfunktionen verwenden\nKleine Diagrammschule zur schnellen Darstellung von Daten\nSparklines\nDiagrammtypen und -vorlagen\n\nTeilnehmerkreis\nDas Seminar richtet sich an Führungskräfte und Mitarbeiter\, die bereits Erfahrungen mit Excel haben und die Auswertung von Datensätzen erweitern möchten. \nVoraussetzungen\nDas Seminar ist für alle Neugierige offen. Excel Grundlagen sind notwendig. \nJetzt anmelden
URL:https://weiterbildung-adwi.de/seminar/excel-aufbau-ii-2023-11-4/
LOCATION:AGENTUR DER WIRTSCHAFT\, Doberaner Straße 112\, Rostock\, 18057\, Deutschland
CATEGORIES:EDV,Excel,Seminare
ATTACH;FMTTYPE=image/jpeg:https://weiterbildung-adwi.de/wp-content/uploads/2020/01/excel-seminar.jpeg
GEO:54.092117;12.113716
X-APPLE-STRUCTURED-LOCATION;VALUE=URI;X-ADDRESS=AGENTUR DER WIRTSCHAFT Doberaner Straße 112 Rostock 18057 Deutschland;X-APPLE-RADIUS=500;X-TITLE=Doberaner Straße 112:geo:12.113716,54.092117
END:VEVENT
BEGIN:VEVENT
DTSTART;TZID=Europe/Berlin:20240528T090000
DTEND;TZID=Europe/Berlin:20240528T140000
DTSTAMP:20260425T161432
CREATED:20200305T091536Z
LAST-MODIFIED:20240312T100755Z
UID:4733-1716886800-1716904800@weiterbildung-adwi.de
SUMMARY:Arbeitsunfähigkeit - Zweifel des Arbeitgebers\, Wiedereingliederung von Beschäftigten
DESCRIPTION:Auf dem aktuellen Stand bleiben\nIhr Nutzen\nErfolgreiche Mitarbeiterführung hat stets auch eine rechtliche Komponente. Dieses Seminar vermittelt und vertieft das arbeitsrechtliche Know-how\, das für eine souveräne Mitarbeiterführung benötigt wird. So treffen Sie Entscheidungen\, die einer arbeitsgerichtlichen Überprüfung standhalten und gleichzeitig für die Mitarbeiter/innen nachvollziehbar sind.\nEinfach\, verständlich und praxisbezogen werden Ihnen wichtige Themen vermittelt. Mit diesem Wissen gewinnen Sie Sicherheit in „heiklen” Situationen\, vermeiden Fehlentscheidungen\, sparen letztlich Kosten\, agieren konsequent und selbstsicher und steigern somit Ihre Führungskompetenz. \nInhalte\n\nAnspruch auf Entgeltfortzahlung und Krankengeld\nNachweispflicht\nWenn der Arbeitgeber Zweifel an der Arbeitsunfähigkeit hat\nÜberprüfung durch den Medizinischen Dienst bei gesetzlich Versicherten sowie Prüfung und Information durch die Krankenkasse\nEinschaltung des Betriebsarztes\nKrankmeldung aus dem Ausland\nWiedereingliederung von Beschäftigten als eigenständiges Vertragsverhältnis (Hamburger Modell genannt)\nKündigung wegen Krankheit\nnegative Zukunftsprognose\nInteressenabwägung\n\nTeilnehmerkreis\nDas Seminar richtet sich an alle Interessenten. \nJetzt anmelden
URL:https://weiterbildung-adwi.de/seminar/arbeitsunfaehigkeit/
LOCATION:AGENTUR DER WIRTSCHAFT\, Doberaner Straße 112\, Rostock\, 18057\, Deutschland
CATEGORIES:Arbeit und Sozial,Recht,Seminare
ATTACH;FMTTYPE=image/jpeg:https://weiterbildung-adwi.de/wp-content/uploads/2020/03/500_F_253071345_ody19dDGUBj7uGp0rA61ZffDQJ7yJX5y.jpg
GEO:54.092117;12.113716
X-APPLE-STRUCTURED-LOCATION;VALUE=URI;X-ADDRESS=AGENTUR DER WIRTSCHAFT Doberaner Straße 112 Rostock 18057 Deutschland;X-APPLE-RADIUS=500;X-TITLE=Doberaner Straße 112:geo:12.113716,54.092117
END:VEVENT
BEGIN:VEVENT
DTSTART;TZID=Europe/Berlin:20240529T090000
DTEND;TZID=Europe/Berlin:20240529T153000
DTSTAMP:20260425T161432
CREATED:20200120T131751Z
LAST-MODIFIED:20240422T132118Z
UID:4759-1716973200-1716996600@weiterbildung-adwi.de
SUMMARY:Excel—Aufbau III
DESCRIPTION:Daten managen und auswerten\nIhr Nutzen\nPivot-Tabellen (oder Kreuztabellen) sind für manchen die hohe Schule in Excel – und dabei so einfach und wirkungsvoll zu erstellen. Neben diesem Darstellungstool liegt ein weiterer Seminarschwerpunkt auf der Was-wäre-wenn-Analyse. \nPivot-Tabellen sind ein mächtiges und geniales Werkzeug\, um umfangreiche Daten interaktiv darzustellen. Was kompliziert anmutet ist einfach zu erlernen und schnell umzusetzen. Im Seminar stehen Pivot-Tabellen im Mittelpunkt. Die Daten dazu können aus verschiedenen Tabellen stammen und vorher konsolidiert werden. Auch ein Thema hier. Zudem kalkulieren Sie verschiedene Ergebnisse durch Szenarien voraus. Oder sie suchen den Zielwert und kalkulieren rückwärts. Das finden Sie bei den Was-wäre-wenn-Analysen. \nAlso\, was wäre wenn Sie teilnehmen würden? \nInhalte\n\nTabellen kombinieren und konsolidieren\nKonsolidieren nach Position\, Formel oder Rubrik\nPivot-Tabellen erstellen\, anpassen und aktualisieren\nFeldliste nutzen\, Tabelle strukturieren\nWerte berechnen\, Mehrfachberechnungen erstellen\nDatenschnitte und Zeitskalen einblenden\nPivot-Diagramme aus den Tabellen übernehmen\nWas-wäre-wenn-Analysen\nSzenarien erstellen und im Manager verwalten\nZielwert berechnen\nDatentabellen herleiten\nMakros erstellen für wiederholende Arbeitsschritte\nMakros anlegen\, starten und den Ablauf prüfen\n\nTeilnehmerkreis\nDas Seminar richtet sich an Führungskräfte und Mitarbeiter\, die bereits Erfahrungen mit Excel haben und die Auswertung  von Datensätzen erweitern möchten. \nVoraussetzungen\nDas Seminar ist für alle Neugierige offen. Excel Grundlagen sind notwendig. \nJetzt anmelden
URL:https://weiterbildung-adwi.de/seminar/aufbau-iii-2024-03-3/
LOCATION:AGENTUR DER WIRTSCHAFT\, Doberaner Straße 112\, Rostock\, 18057\, Deutschland
CATEGORIES:EDV,Excel,Seminare
ATTACH;FMTTYPE=image/jpeg:https://weiterbildung-adwi.de/wp-content/uploads/2020/01/excel-seminar.jpeg
GEO:54.092117;12.113716
X-APPLE-STRUCTURED-LOCATION;VALUE=URI;X-ADDRESS=AGENTUR DER WIRTSCHAFT Doberaner Straße 112 Rostock 18057 Deutschland;X-APPLE-RADIUS=500;X-TITLE=Doberaner Straße 112:geo:12.113716,54.092117
END:VEVENT
BEGIN:VEVENT
DTSTART;TZID=Europe/Berlin:20240530T090000
DTEND;TZID=Europe/Berlin:20240530T143000
DTSTAMP:20260425T161432
CREATED:20240425T071842Z
LAST-MODIFIED:20240425T075146Z
UID:4796-1717059600-1717079400@weiterbildung-adwi.de
SUMMARY:ChatGPT: Dein Alltagsheld und Büroassistent
DESCRIPTION:Erleben Sie die faszinierende Welt von ChatGPT und nutzen Sie die Vorteile künstlicher Intelligenz in Ihrem Alltag und Beruf!\nEntdecken Sie die Möglichkeiten von künstlicher Intelligenz in unserem Seminar! Tauchen Sie ein in die faszinierende Welt von ChatGPT\, dem intelligenten Assistenten\, der mit Leichtigkeit und Genialität private aber auch berufliche Probleme löst und maßgeschneiderte Antworten liefert.\nIn der heutigen Arbeitswelt kann künstliche Intelligenz wahre Wunder bewirken. Stellen Sie sich vor\, wie Sie komplexe E-Mails verfassen\, Meetings effizient gestalten und gleichzeitig Datenschutzrichtlinien mühelos einhalten können. In diesem Seminar zeigen wir Ihnen gezielt sinnvolle Anwendungsmöglichkeiten auf. \nWir erkunden den vollen Umfang dieses Tools zu erkunden und zu ergründen\, ob es sich hier wirklich um einen Meilenstein der technologischen Entwicklung handelt. \nHinweis: Das Seminar konzentriert sich ausschließlich auf die Textverarbeitung mit künstlicher Intelligenz – sogenannten Chatbots. \nErgebnisse für die Teilnehmer:\n– Fundierte Kenntnisse über die Grundlagen der künstlichen Intelligenz\n– Sicherer Umgang mit ChatGPT und anderen Chatbots\n– Einsatz von Fachbegriffen in angemessener Weise\n– Effektive Arbeitsunterstützung in Verbindung mit den täglich genutzten Programmen\n– Zeitersparnis bei privaten und beruflichen Aufgaben durch optimierte Nutzung künstlicher Intelligenz. \n\nTeilnehmerkreis \nDas Seminar richtet sich an alle Neugierige. \nJetzt anmelden
URL:https://weiterbildung-adwi.de/seminar/chatgpt-dein-alltagsheld-und-bueroassistent/
LOCATION:AGENTUR DER WIRTSCHAFT\, Doberaner Straße 112\, Rostock\, 18057\, Deutschland
CATEGORIES:EDV
ATTACH;FMTTYPE=image/jpeg:https://weiterbildung-adwi.de/wp-content/uploads/2024/04/ki-seminar.jpg
GEO:54.092117;12.113716
X-APPLE-STRUCTURED-LOCATION;VALUE=URI;X-ADDRESS=AGENTUR DER WIRTSCHAFT Doberaner Straße 112 Rostock 18057 Deutschland;X-APPLE-RADIUS=500;X-TITLE=Doberaner Straße 112:geo:12.113716,54.092117
END:VEVENT
END:VCALENDAR