BEGIN:VCALENDAR
VERSION:2.0
PRODID:-//Agentur der Wirtschaft - ECPv5.3.2//NONSGML v1.0//EN
CALSCALE:GREGORIAN
METHOD:PUBLISH
X-WR-CALNAME:Agentur der Wirtschaft
X-ORIGINAL-URL:https://weiterbildung-adwi.de
X-WR-CALDESC:Veranstaltungen für Agentur der Wirtschaft
BEGIN:VTIMEZONE
TZID:Europe/Berlin
BEGIN:DAYLIGHT
TZOFFSETFROM:+0100
TZOFFSETTO:+0200
TZNAME:CEST
DTSTART:20240331T010000
END:DAYLIGHT
BEGIN:STANDARD
TZOFFSETFROM:+0200
TZOFFSETTO:+0100
TZNAME:CET
DTSTART:20241027T010000
END:STANDARD
END:VTIMEZONE
BEGIN:VEVENT
DTSTART;TZID=Europe/Berlin:20240305T090000
DTEND;TZID=Europe/Berlin:20240305T161500
DTSTAMP:20260425T124830
CREATED:20200305T131534Z
LAST-MODIFIED:20240216T103900Z
UID:4509-1709629200-1709655300@weiterbildung-adwi.de
SUMMARY:Seminarreihe: Führungsstark (Teil I) (auch einzeln buchbar)
DESCRIPTION:Die Seminar- und Coachingreihe für zukünftige und erfahrene Führungskräfte\nIhr Nutzen\nDiese Seminarreihe bieten Ihnen die Möglichkeit\, Alltagssituationen mit Abstand zu betrachten und dabei das eigene (Führungs-)verhalten zu reflektieren. Schöpferische Prozesse in der Teamarbeit zu ermöglichen und zu steuern ist eine erfüllende und dennoch häufig schwierige Aufgabe. Die Fortbildung soll Sie dabei unterstützen\, das eigene Potential und das Ihrer Mitarbeitenden professionell zu erweitern. Im Ergebnis dieser Seminartage werden Sie über ein größeres Repertoire an Handlungsmöglichkeiten verfügen und inspiriert sein\, sich mit vielen Themenfeldern intensiver zu beschäftigen. \nInhalte\nTeil I – 05.03.2024\nWenn es knirscht – Führungskräfte als Konfliktmanager\n\nKonflikte als Motoren für Veränderungen\nKonflikt- und Kritikgespräche mit Mitarbeitenden führen\nGrundprinzipien des Moderierens\, Beratens und der Mediation kennen und nutzen\nKonflikteskalationen vermeiden und emotionale Gespräche versachlichen\n\n\nTeil II – 20.03.2024\n„Ich mach da nicht mit.“ Mitarbeitende in Zeiten von Veränderungen führen und begleiten\n\nKollektive Gefühle managen: die emotionale Achterbahn\ndie verschiedenen Formen von Widerständen identifizieren und empathisch reagieren\nFlexibilität der Mitarbeitenden fördern: die Intelligenz des Teams noch besser nutzen\n\nTeil III – 09.04.2024\nSich selbst gesund führen und Mitarbeitende bei steigender Belastung angemessen begleiten\n\nUrsachen für Überlastungen unterscheiden und angemessen damit umgehen können\nWarnsignale bei sich selbst und Anderen wahrnehmen\nTipps zur strukturellen Burnout Prävention\n\nTeilnehmerkreis\nDas Seminar richtet sich an interessierte Führungskräfte und die es werden wollen. \nJetzt anmelden
URL:https://weiterbildung-adwi.de/seminar/fuehrungsstark-03-2-3/
LOCATION:AGENTUR DER WIRTSCHAFT\, Doberaner Straße 112\, Rostock\, 18057\, Deutschland
CATEGORIES:Führung,Führungskompetenz,Seminare
ATTACH;FMTTYPE=image/jpeg:https://weiterbildung-adwi.de/wp-content/uploads/2020/03/500_F_228350914_bPzbtdBrfsKvlea7HE7PQ2BB7WCebtb2.jpg
GEO:54.092117;12.113716
X-APPLE-STRUCTURED-LOCATION;VALUE=URI;X-ADDRESS=AGENTUR DER WIRTSCHAFT Doberaner Straße 112 Rostock 18057 Deutschland;X-APPLE-RADIUS=500;X-TITLE=Doberaner Straße 112:geo:12.113716,54.092117
END:VEVENT
BEGIN:VEVENT
DTSTART;TZID=Europe/Berlin:20240306T090000
DTEND;TZID=Europe/Berlin:20240306T163000
DTSTAMP:20260425T124830
CREATED:20200305T131534Z
LAST-MODIFIED:20240219T144923Z
UID:4567-1709715600-1709742600@weiterbildung-adwi.de
SUMMARY:Abgesagt! Feedbackgespräche wirkungsvoll durchführen
DESCRIPTION:Das Praxisseminar für eine professionelle Rückmeldung\nIhr Nutzen\nSind Sie bereit\, Ihre Kommunikationsfähigkeiten auf ein neues Level zu heben und die Kunst des Feedbacks zu meistern? In dieser inspirierenden Veranstaltung werden Sie entdecken\, wie Sie konstruktives Feedback zu einem mächtigen Werkzeug für persönliches und berufliches Wachstum machen können. \nSie entwickeln ihre Fähigkeiten zur klaren und effektiven Kommunikation\, um Feedback gezielt und respektvoll zu vermitteln. Zudem lernen sie\, wie sie Feedback als Instrument zur persönlichen und beruflichen Weiterentwicklung nutzen können. \nInhalte\n\nWas ist Feedback in Reinkultur?\nWarum ist Feedback sinnvoll? Das Johari-Fenster\nFeedbackregeln und Feedbackstruktur\nFeedbackkultur im Team / Unternehmen fördern\nPraxisübungen mit Video-Feedback\n\n  \nJetzt anmelden
URL:https://weiterbildung-adwi.de/seminar/feedbackgespraeche-wirkungsvoll-fuehren-3-2/
LOCATION:AGENTUR DER WIRTSCHAFT\, Doberaner Straße 112\, Rostock\, 18057\, Deutschland
CATEGORIES:Führung,Führungskompetenz,Seminare
ATTACH;FMTTYPE=image/jpeg:https://weiterbildung-adwi.de/wp-content/uploads/2020/04/miteinander-reden-verstehen.jpg
GEO:54.092117;12.113716
X-APPLE-STRUCTURED-LOCATION;VALUE=URI;X-ADDRESS=AGENTUR DER WIRTSCHAFT Doberaner Straße 112 Rostock 18057 Deutschland;X-APPLE-RADIUS=500;X-TITLE=Doberaner Straße 112:geo:12.113716,54.092117
END:VEVENT
BEGIN:VEVENT
DTSTART;TZID=Europe/Berlin:20240313T090000
DTEND;TZID=Europe/Berlin:20240313T140000
DTSTAMP:20260425T124830
CREATED:20200305T091536Z
LAST-MODIFIED:20240112T093322Z
UID:4502-1710320400-1710338400@weiterbildung-adwi.de
SUMMARY:Arbeitsrecht kompakt
DESCRIPTION:Auf dem aktuellen Stand bleiben\nIhr Nutzen\nErfolgreiche Mitarbeiterführung hat stets auch eine rechtliche Komponente. Dieses Seminar vermittelt und vertieft das arbeitsrechtliche Know-how\, das für eine souveräne Mitarbeiterführung benötigt wird. So treffen Sie Entscheidungen\, die einer arbeitsgerichtlichen Überprüfung standhalten und gleichzeitig für die Mitarbeiter/innen nachvollziehbar sind.\nEinfach\, verständlich und praxisbezogen werden Ihnen wichtige Themen vermittelt. Mit diesem Wissen gewinnen Sie Sicherheit in „heiklen” Situationen\, vermeiden Fehlentscheidungen\, sparen letztlich Kosten\, agieren konsequent und selbstsicher und steigern somit Ihre Führungskompetenz. \nInhalte\nGestaltung von Arbeitsverhältnissen\n\nNachweisgesetz 2022\nProbezeit\nBedingungen für ein befristetes Arbeitsverhältnis\nHomeoffice\nAnweisung anderer Tätigkeiten\, Umsetzung und Versetzung\nWas alles ist Arbeitszeit?\nAnspruch auf Veränderung der Arbeitszeit\nArbeitszeitkonten\nMindestlohn\nNachtarbeitszuschläge\nSchadenersatzanspruch des Mitarbeiters gegenüber dem Arbeitgeber\nErholungs-\, Sonder-\, Bildungs-\, Pflegeurlaub\nAnzeige- und Nachweispflichten des Arbeitnehmers bei Arbeitsunfähigkeit\nUmgang mit kranken und suchtkranken Mitarbeitern\nMöglichkeiten des Einsatzes von Mitarbeitern trotz Arbeitsunfähigkeitsbescheinigung?\nUmgang mit Langfristkranken\nMutterschutz und Elternzeit\nNebentätigkeit\nBeschäftigungsverbote\nErmahnung und Abmahnung\n\nBeendigung von Arbeitsverhältnissen\n\nMöglichkeiten der Beendigung von Arbeitsverhältnissen\nArten einer Kündigung\nKündigungsfristen\nFreistellung während der Kündigungsfrist\nZugang der Kündigung\nWorauf muss bei einem Fristablauf geachtet werden?\nMitwirkungsrechte des Betriebs-/Personalrats\nArbeitszeugnis\nKündigungsschutzklage\nGütetermin: Vergleich und Abfindung\nKammertermin: Urteil und Weiterbeschäftigungsanspruch\n\nTeilnehmerkreis\nDas Seminar richtet sich an alle Interessenten. \nJetzt anmelden
URL:https://weiterbildung-adwi.de/seminar/arbeitsrecht-2-2-2-2-2/
LOCATION:AGENTUR DER WIRTSCHAFT\, Doberaner Straße 112\, Rostock\, 18057\, Deutschland
CATEGORIES:Arbeit und Sozial,Recht,Seminare
ATTACH;FMTTYPE=image/jpeg:https://weiterbildung-adwi.de/wp-content/uploads/2020/03/500_F_253071345_ody19dDGUBj7uGp0rA61ZffDQJ7yJX5y.jpg
GEO:54.092117;12.113716
X-APPLE-STRUCTURED-LOCATION;VALUE=URI;X-ADDRESS=AGENTUR DER WIRTSCHAFT Doberaner Straße 112 Rostock 18057 Deutschland;X-APPLE-RADIUS=500;X-TITLE=Doberaner Straße 112:geo:12.113716,54.092117
END:VEVENT
BEGIN:VEVENT
DTSTART;TZID=Europe/Berlin:20240319T090000
DTEND;TZID=Europe/Berlin:20240319T153000
DTSTAMP:20260425T124830
CREATED:20200120T131751Z
LAST-MODIFIED:20240205T072230Z
UID:4537-1710838800-1710862200@weiterbildung-adwi.de
SUMMARY:Excel—Grundlagen
DESCRIPTION:Wichtige Techniken erlernen\, anwenden und festigen\nIhr Nutzen\nWer wenig mit Excel unterwegs ist\, aber grundlegende Techniken für einfache Tabellenbearbeitung benötigt\, ist hier richtig. Der Sprung ins kalte Wasser gelingt mithilfe anschaulicher Übungen ohne dabei tief tauchen zu müssen. \nDas Kalkulationsprogramm Excel ist ein mächtiges Werkzeug\, um Daten in Tabellenform darzustellen und zu berechnen. Die vielfältigen Möglichkeiten von Excel werden in diesem Seminar geordnet und systematisch entwickelt. Sie werden nach dem Seminar eigene Tabellen erstellen\, formatieren und ausdrucken können. Sie legen erste einfache Berechnungen fest\, die sich automatisch bei Änderung der Daten anpassen. Dazu werden Sie sicherer bei der Fensterverwaltung und Sortieren von Daten.\nAlso Badekappe auf und hinein ins Vergnügen.. \nInhalte\n\nAufbau des Programms\, Fenstereinstellungen\, Arbeiten auf der Oberfläche\nTastenkombinationen für schnelleres Arbeiten kennenlernen\nVon der Mappe über das Blatt zu Zelle – Daten eingeben\nSchrift- und Zahlenformate in der Zelle (Datumsformat\, Prozent usw.)\nFormatvorlagen nutzen\, Formate übertragen\, individuell anpassen\nEinfache Berechnungen mit Zellbezügen\nEinfache Formeln und Funktionen (SUMME\, MITTELWERT)\nVerschiedene Zellbezüge einstellen (relativer oder absoluter Bezug)\nDaten sortieren\, suchen und ersetzen\nFenster fixieren\nDruckeinstellungen vornehmen\, Druckbereiche festlegen\n\nTeilnehmerkreis\nDas Seminar richtet sich an Führungskräfte und Mitarbeiter\, die keine oder wenige Erfahrungen mit Excel haben und praktische Grundlagenvermittlung erhalten möchten. \nVoraussetzungen\nDas Seminar ist für alle Neugierige offen. Allgemeine Kenntnisse der Windows Oberfläche sind gewünscht. \nJetzt anmelden
URL:https://weiterbildung-adwi.de/seminar/grundlagen-2024-03/
LOCATION:AGENTUR DER WIRTSCHAFT\, Doberaner Straße 112\, Rostock\, 18057\, Deutschland
CATEGORIES:EDV,Excel,Seminare
ATTACH;FMTTYPE=image/jpeg:https://weiterbildung-adwi.de/wp-content/uploads/2020/01/excel-seminar.jpeg
GEO:54.092117;12.113716
X-APPLE-STRUCTURED-LOCATION;VALUE=URI;X-ADDRESS=AGENTUR DER WIRTSCHAFT Doberaner Straße 112 Rostock 18057 Deutschland;X-APPLE-RADIUS=500;X-TITLE=Doberaner Straße 112:geo:12.113716,54.092117
END:VEVENT
BEGIN:VEVENT
DTSTART;TZID=Europe/Berlin:20240320T090000
DTEND;TZID=Europe/Berlin:20240320T153000
DTSTAMP:20260425T124830
CREATED:20200120T131751Z
LAST-MODIFIED:20240205T072152Z
UID:4124-1710925200-1710948600@weiterbildung-adwi.de
SUMMARY:Excel—Aufbau I
DESCRIPTION:Wichtige Funktionen erlernen\, anwenden und festigen\nIhr Nutzen\nWer häufiger mit Excel arbeitet kommt an der Verwendung von Formeln und Funktionen nicht vorbei. Die richtige Schreibweise und der sinnvolle Einsatz dieser Berechnungsanweisungen stehen hier im Mittelpunkt mit einer Reihe praktischer Anwendungen. \nDer Formelassistent steht als Hilfswerkzeug zu Verfügung. Die Funktionen werden erläutert und notwendige Eingaben abgefragt. Im Seminar werden klassische Funktionen aus der Kategorie Datum und Uhrzeit\, Logik und Verweise behandelt. Sie festigen deren Einsatz für Ihre Berechnungen\, erhalten Anregungen zu neuen Lösungen und stärken Ihr Anwendungspotential in Excel. \nUnsere Aufbaukurse richten sich an Anwender\, die spezielle Kenntnisse vertiefen möchten. Sie können die Kurse nacheinander oder auch nur einzeln buchen\, nehmen Sie sich\, was Sie brauchen. \nWer schon das „Seepferdchen“ hat\, bekommt hier den „Seehund“ als Abzeichen \nInhalte\n\nWas sind Formeln\, was Funktionen\nSyntax der Formeln\, Formelüberprüfungen nutzen\nVerschachtelung von Funktionen\nRechnen mit Namen von Zellen\, Namensmanager kennenlernen\nRechnen mit Datum- und Uhrzeitangaben\nDie logische Funktion WENN() und WENNS()\nDie Verweisfunktion SVERWEIS() und XVERWEIS()\nDatenüberprüfung nutzen\, um fehlerhafte Eingaben zu verhindern\nHäufig verwendete Funktionen\, wie ZÄHLENWENN() oder SUMMEWENN() anwenden\n\nTeilnehmerkreis\nDas Seminar richtet sich an Führungskräfte und Mitarbeiter\, die bereits Erfahrungen mit Excel haben und den Einsatz von Formeln und Funktionen festigen möchten. \nVoraussetzungen\nDas Seminar ist für alle Neugierige offen. Excel Grundlagen sind notwendig. \nJetzt anmelden
URL:https://weiterbildung-adwi.de/seminar/excel-aufbau-i-2024-03/
LOCATION:AGENTUR DER WIRTSCHAFT\, Doberaner Straße 112\, Rostock\, 18057\, Deutschland
CATEGORIES:EDV,Excel,Seminare
ATTACH;FMTTYPE=image/jpeg:https://weiterbildung-adwi.de/wp-content/uploads/2020/01/excel-seminar.jpeg
GEO:54.092117;12.113716
X-APPLE-STRUCTURED-LOCATION;VALUE=URI;X-ADDRESS=AGENTUR DER WIRTSCHAFT Doberaner Straße 112 Rostock 18057 Deutschland;X-APPLE-RADIUS=500;X-TITLE=Doberaner Straße 112:geo:12.113716,54.092117
END:VEVENT
BEGIN:VEVENT
DTSTART;TZID=Europe/Berlin:20240320T090000
DTEND;TZID=Europe/Berlin:20240320T161500
DTSTAMP:20260425T124830
CREATED:20200305T131534Z
LAST-MODIFIED:20240313T084107Z
UID:4511-1710925200-1710951300@weiterbildung-adwi.de
SUMMARY:Auf 15.10.2024 Verschoben! Seminarreihe: Führungsstark (Teil II) (auch einzeln buchbar)
DESCRIPTION:Die Seminar- und Coachingreihe für zukünftige und erfahrene Führungskräfte\nIhr Nutzen\nDiese Seminarreihe bieten Ihnen die Möglichkeit\, Alltagssituationen mit Abstand zu betrachten und dabei das eigene (Führungs-)verhalten zu reflektieren. Schöpferische Prozesse in der Teamarbeit zu ermöglichen und zu steuern ist eine erfüllende und dennoch häufig schwierige Aufgabe. Die Fortbildung soll Sie dabei unterstützen\, das eigene Potential und das Ihrer Mitarbeitenden professionell zu erweitern. Im Ergebnis dieser Seminartage werden Sie über ein größeres Repertoire an Handlungsmöglichkeiten verfügen und inspiriert sein\, sich mit vielen Themenfeldern intensiver zu beschäftigen. \nInhalte\nTeil I – 05.03.2024\nWenn es knirscht – Führungskräfte als Konfliktmanager\n\nKonflikte als Motoren für Veränderungen\nKonflikt- und Kritikgespräche mit Mitarbeitenden führen\nGrundprinzipien des Moderierens\, Beratens und der Mediation kennen und nutzen\nKonflikteskalationen vermeiden und emotionale Gespräche versachlichen\n\n\nTeil II – 20.03.2024\n„Ich mach da nicht mit.“ Mitarbeitende in Zeiten von Veränderungen führen und begleiten\n\nKollektive Gefühle managen: die emotionale Achterbahn\ndie verschiedenen Formen von Widerständen identifizieren und empathisch reagieren\nFlexibilität der Mitarbeitenden fördern: die Intelligenz des Teams noch besser nutzen\n\nTeil III – 09.04.2024\nSich selbst gesund führen und Mitarbeitende bei steigender Belastung angemessen begleiten\n\nUrsachen für Überlastungen unterscheiden und angemessen damit umgehen können\nWarnsignale bei sich selbst und Anderen wahrnehmen\nTipps zur strukturellen Burnout Prävention\n\nTeilnehmerkreis\nDas Seminar richtet sich an interessierte Führungskräfte und die es werden wollen. \nJetzt anmelden
URL:https://weiterbildung-adwi.de/seminar/fuehrungsstark-03-2-2-3/
LOCATION:AGENTUR DER WIRTSCHAFT\, Doberaner Straße 112\, Rostock\, 18057\, Deutschland
CATEGORIES:Führung,Führungskompetenz,Seminare
ATTACH;FMTTYPE=image/jpeg:https://weiterbildung-adwi.de/wp-content/uploads/2020/03/500_F_228350914_bPzbtdBrfsKvlea7HE7PQ2BB7WCebtb2.jpg
GEO:54.092117;12.113716
X-APPLE-STRUCTURED-LOCATION;VALUE=URI;X-ADDRESS=AGENTUR DER WIRTSCHAFT Doberaner Straße 112 Rostock 18057 Deutschland;X-APPLE-RADIUS=500;X-TITLE=Doberaner Straße 112:geo:12.113716,54.092117
END:VEVENT
BEGIN:VEVENT
DTSTART;TZID=Europe/Berlin:20240322T090000
DTEND;TZID=Europe/Berlin:20240322T163000
DTSTAMP:20260425T124830
CREATED:20200305T091536Z
LAST-MODIFIED:20240311T150235Z
UID:4594-1711098000-1711125000@weiterbildung-adwi.de
SUMMARY:Neuer Termin!!!! 25.11.2024 -Rückenschule für den Arbeitsplatz
DESCRIPTION:Ihr Weg zu einem schmerzfreien Arbeitsalltag\nIhr Rücken ist Ihr wichtigstes Werkzeug im Beruf\, und wir wissen\, wie entscheidend es ist\, ihn gesund und stark zu erhalten. In diesem Seminar werden Sie nicht nur die Grundlagen der Rückengesundheit verstehen\, sondern auch praktische Übungen kennenlernen\, die Sie nahtlos in Ihren Arbeitsalltag integrieren können. \nInvestieren Sie in Ihre Gesundheit und Ihr Wohlbefinden am Arbeitsplatz. Melden Sie sich noch heute für unser Seminar „Rückenschule für den Arbeitsplatz“ an und erfahren Sie\, wie Sie Ihren Rücken stärken und Beschwerden vorbeugen können. Machen Sie den ersten Schritt zu einem gesünderen Arbeitsleben! \nEines der Hauptziele dieses Seminars ist die Prävention. Wir werden Sie darin schulen\, auf Warnsignale Ihres Körpers zu achten und präventive Maßnahmen zu ergreifen\, um Rückenbeschwerden vorzubeugen. Praktische Tipps zur Verbesserung Ihrer Ergonomie am Arbeitsplatz werden einen großen Teil des Kurses ausmachen. \nInhalte\n\nVermittlung von Grundlagenwissen\nEntstehung von Rückenbeschwerden\nDie Bedeutung der Anatomie und Biomechanik\nDemonstration von praktischen Übungen\n\nTeilnehmerkreis\nDas Seminar ist für jeden geeignet. \nJetzt anmelden
URL:https://weiterbildung-adwi.de/seminar/rueckenschule_fuer_den_arbeitsplatz-03-242/
LOCATION:AGENTUR DER WIRTSCHAFT\, Doberaner Straße 112\, Rostock\, 18057\, Deutschland
CATEGORIES:Gesundheit,Persönlichkeit,Seminare
ATTACH;FMTTYPE=image/jpeg:https://weiterbildung-adwi.de/wp-content/uploads/2020/04/raus-aus-stressfalle.jpg
GEO:54.092117;12.113716
X-APPLE-STRUCTURED-LOCATION;VALUE=URI;X-ADDRESS=AGENTUR DER WIRTSCHAFT Doberaner Straße 112 Rostock 18057 Deutschland;X-APPLE-RADIUS=500;X-TITLE=Doberaner Straße 112:geo:12.113716,54.092117
END:VEVENT
BEGIN:VEVENT
DTSTART;TZID=Europe/Berlin:20240326T090000
DTEND;TZID=Europe/Berlin:20240326T153000
DTSTAMP:20260425T124830
CREATED:20200120T131751Z
LAST-MODIFIED:20231219T080841Z
UID:4133-1711443600-1711467000@weiterbildung-adwi.de
SUMMARY:Excel—Aufbau II
DESCRIPTION:Daten managen und auswerten\nIhr Nutzen\nDurch viele Datenfelder und Datensätze können schnell Zahlenkolonnen entstehen\, die unübersichtlich sind. Um einen besseren Überblick zu erhalten sind Filter- und Gruppierungsbefehle hilfreich. \nWas ist der Unterschied zwischen Auto- und Spezialfilter? Wann setzte ich welchen Filter nützlich ein? Welche Optionen bietet mir die bedingte Formatierung\, um Werte automatisch hervorzuheben? Und welchen sinnvollen Einsatz bei der Datenanalyse gestatten mir die Datenbankfunktionen in Excel? \nAuf all die Fragen finden Sie im Seminar Antworten\, praktische Hinweise und Lösungsvorschläge. Das Arbeiten mit großen Tabellen ist dann ein Heimspiel. \nÜbersichtlichkeit vs. Datenmenge. Wer gewinnt? \nInhalte\n\nBedingte Formatierungen verwenden\nRegeln erstellen und anpassen\, den Regelmanager verwalten\nDatenbalken\, Farbskalen und Symbolsätze\nFiltertechniken – die Stärken\, Unterschiede und Einsatzmöglichkeiten\nAuto- und Spezialfilter\nSuchkriterien erstellen\nBerechneter Filter\nNach Farben filtern oder sortieren\nGruppierungen von Daten\nAutomatisch oder individuell\nTeilergebnisse anlegen\ngegliederte Teilergebnisse\nDatenbankfunktionen verwenden\nKleine Diagrammschule zur schnellen Darstellung von Daten\nSparklines\nDiagrammtypen und -vorlagen\n\nTeilnehmerkreis\nDas Seminar richtet sich an Führungskräfte und Mitarbeiter\, die bereits Erfahrungen mit Excel haben und die Auswertung von Datensätzen erweitern möchten. \nVoraussetzungen\nDas Seminar ist für alle Neugierige offen. Excel Grundlagen sind notwendig. \nJetzt anmelden
URL:https://weiterbildung-adwi.de/seminar/excel-aufbau-ii-2023-11/
LOCATION:AGENTUR DER WIRTSCHAFT\, Doberaner Straße 112\, Rostock\, 18057\, Deutschland
CATEGORIES:EDV,Excel,Seminare
ATTACH;FMTTYPE=image/jpeg:https://weiterbildung-adwi.de/wp-content/uploads/2020/01/excel-seminar.jpeg
GEO:54.092117;12.113716
X-APPLE-STRUCTURED-LOCATION;VALUE=URI;X-ADDRESS=AGENTUR DER WIRTSCHAFT Doberaner Straße 112 Rostock 18057 Deutschland;X-APPLE-RADIUS=500;X-TITLE=Doberaner Straße 112:geo:12.113716,54.092117
END:VEVENT
BEGIN:VEVENT
DTSTART;TZID=Europe/Berlin:20240327T090000
DTEND;TZID=Europe/Berlin:20240327T153000
DTSTAMP:20260425T124830
CREATED:20200120T131751Z
LAST-MODIFIED:20240313T133130Z
UID:4142-1711530000-1711553400@weiterbildung-adwi.de
SUMMARY:Excel—Aufbau III
DESCRIPTION:Daten managen und auswerten\nIhr Nutzen\nPivot-Tabellen (oder Kreuztabellen) sind für manchen die hohe Schule in Excel – und dabei so einfach und wirkungsvoll zu erstellen. Neben diesem Darstellungstool liegt ein weiterer Seminarschwerpunkt auf der Was-wäre-wenn-Analyse. \nPivot-Tabellen sind ein mächtiges und geniales Werkzeug\, um umfangreiche Daten interaktiv darzustellen. Was kompliziert anmutet ist einfach zu erlernen und schnell umzusetzen. Im Seminar stehen Pivot-Tabellen im Mittelpunkt. Die Daten dazu können aus verschiedenen Tabellen stammen und vorher konsolidiert werden. Auch ein Thema hier. Zudem kalkulieren Sie verschiedene Ergebnisse durch Szenarien voraus. Oder sie suchen den Zielwert und kalkulieren rückwärts. Das finden Sie bei den Was-wäre-wenn-Analysen. \nAlso\, was wäre wenn Sie teilnehmen würden? \nInhalte\n\nTabellen kombinieren und konsolidieren\nKonsolidieren nach Position\, Formel oder Rubrik\nPivot-Tabellen erstellen\, anpassen und aktualisieren\nFeldliste nutzen\, Tabelle strukturieren\nWerte berechnen\, Mehrfachberechnungen erstellen\nDatenschnitte und Zeitskalen einblenden\nPivot-Diagramme aus den Tabellen übernehmen\nWas-wäre-wenn-Analysen\nSzenarien erstellen und im Manager verwalten\nZielwert berechnen\nDatentabellen herleiten\nMakros erstellen für wiederholende Arbeitsschritte\nMakros anlegen\, starten und den Ablauf prüfen\n\nTeilnehmerkreis\nDas Seminar richtet sich an Führungskräfte und Mitarbeiter\, die bereits Erfahrungen mit Excel haben und die Auswertung  von Datensätzen erweitern möchten. \nVoraussetzungen\nDas Seminar ist für alle Neugierige offen. Excel Grundlagen sind notwendig. \nJetzt anmelden
URL:https://weiterbildung-adwi.de/seminar/aufbau-iii-2024-03-4/
LOCATION:AGENTUR DER WIRTSCHAFT\, Doberaner Straße 112\, Rostock\, 18057\, Deutschland
CATEGORIES:EDV,Excel,Seminare
ATTACH;FMTTYPE=image/jpeg:https://weiterbildung-adwi.de/wp-content/uploads/2020/01/excel-seminar.jpeg
GEO:54.092117;12.113716
X-APPLE-STRUCTURED-LOCATION;VALUE=URI;X-ADDRESS=AGENTUR DER WIRTSCHAFT Doberaner Straße 112 Rostock 18057 Deutschland;X-APPLE-RADIUS=500;X-TITLE=Doberaner Straße 112:geo:12.113716,54.092117
END:VEVENT
END:VCALENDAR