BEGIN:VCALENDAR
VERSION:2.0
PRODID:-//Agentur der Wirtschaft - ECPv5.3.2//NONSGML v1.0//EN
CALSCALE:GREGORIAN
METHOD:PUBLISH
X-WR-CALNAME:Agentur der Wirtschaft
X-ORIGINAL-URL:https://weiterbildung-adwi.de
X-WR-CALDESC:Veranstaltungen für Agentur der Wirtschaft
BEGIN:VTIMEZONE
TZID:Europe/Berlin
BEGIN:DAYLIGHT
TZOFFSETFROM:+0100
TZOFFSETTO:+0200
TZNAME:CEST
DTSTART:20240331T010000
END:DAYLIGHT
BEGIN:STANDARD
TZOFFSETFROM:+0200
TZOFFSETTO:+0100
TZNAME:CET
DTSTART:20241027T010000
END:STANDARD
END:VTIMEZONE
BEGIN:VEVENT
DTSTART;TZID=Europe/Berlin:20240115T090000
DTEND;TZID=Europe/Berlin:20240115T161500
DTSTAMP:20260421T132439
CREATED:20200305T091536Z
LAST-MODIFIED:20231219T083028Z
UID:3356-1705309200-1705335300@weiterbildung-adwi.de
SUMMARY:Mein Team braucht mich
DESCRIPTION:Miteinander erfolgreich sein.\nKunden spüren das Betriebsklima! \nKunden kommen gerne in einen Markt\, ein Geschäft\, eine Gaststätte oder ein Hotel in dem sie ein vielfältiges und interessantes Angebot finden. Außerdem möchten sie sich wohl fühlen und auf kompetente\, achtsame und freundliche Mitarbeiter treffen. \nHäufig wird in Märkten\, Teams oder Abteilungen zwar über Probleme\, abzustellende Missstände\, unmögliche Personen und schlechte Zustände geredet\, dies aber nicht in ziel- und lösungsorientierter Form. \nErfolgreiche Zusammenarbeit bedeutet deshalb\, sich genau mit jenen Themen zu beschäftigen\, die anstehen\, um im dienstlichen Umfeld effektiv(er) an den Zielen\, Aufgaben und am Miteinander zu arbeiten. \nZiel des Trainings ist es\, ein gemeinsames Verständnis für das „Miteinander(arbeiten)“ im Unternehmen zu entwickeln. \nMit diesem Training soll die erfolgreiche Zusammenarbeit in den Vordergrund gerückt werden. Wichtig ist es\, seine eigenen Aufgaben klar zu kennen\, die Arbeit und Leistung anderer Kollegen\, die des Chefs\, aber auch von sich selbst wertzuschätzen. \nInhalte\n\nVerantwortlichkeit aller Mitarbeiter\nKlare Rollen\, Aufgaben und Organisation\nOffene Kommunikation und wertschätzender Umgang miteinander\nAusgeprägtes Gefühl der Zusammengehörigkeit.\nDie innere Einstellung zur Arbeit\nTeamerfolg aktiv gestalten und erleben\n\nTeilnehmerkreis\nDas Seminar richtet sich an alle Neugierige. \nJetzt anmelden
URL:https://weiterbildung-adwi.de/seminar/mein-team-braucht-mich-2024-01/
LOCATION:AGENTUR DER WIRTSCHAFT\, Doberaner Straße 112\, Rostock\, 18057\, Deutschland
CATEGORIES:Persönlichkeit,Seminare
ATTACH;FMTTYPE=image/jpeg:https://weiterbildung-adwi.de/wp-content/uploads/2020/01/500_F_171492295_JGq82xSYPYhD50VrWKdL251XSLa9v6e5.jpg
GEO:54.092117;12.113716
X-APPLE-STRUCTURED-LOCATION;VALUE=URI;X-ADDRESS=AGENTUR DER WIRTSCHAFT Doberaner Straße 112 Rostock 18057 Deutschland;X-APPLE-RADIUS=500;X-TITLE=Doberaner Straße 112:geo:12.113716,54.092117
END:VEVENT
BEGIN:VEVENT
DTSTART;TZID=Europe/Berlin:20240116T090000
DTEND;TZID=Europe/Berlin:20240116T140000
DTSTAMP:20260421T132439
CREATED:20200305T091536Z
LAST-MODIFIED:20240104T073145Z
UID:4504-1705395600-1705413600@weiterbildung-adwi.de
SUMMARY:Neuregelungen im Arbeits- und Sozialrecht 2023/24
DESCRIPTION:Ihr Nutzen\nRechtliche Neuerungen durch Gesetzesänderungen und Entscheidungen der Arbeits- und Sozialgerichtsbarkeit können immer relevant für Ihre Tätigkeit sein. Personalentscheider\, Betriebsräte oder interessierte Mitarbeiter\, die den neuesten rechtlichen Stand für ihre Arbeit nutzen wollen\, sollten sich daher regelmäßig über aktuelle und zukünftig zu erwartende Entwicklungen in Gesetzgebung und Rechtsprechung informieren. \nAm Seminar können Sie in Präsenz oder online teilnehmen. \nInhalte\nErfolgreiche Mitarbeiterführung hat stets auch eine rechtliche Komponente. Dieses Seminar vertieft das arbeits- und sozialrechtliche Know-how\, indem es über die Neuregelungen in den Jahren 2023/4 informiert. Erfahrungsgemäß betrifft es die Leistungen der Kranken-\, Pflege- und Rentenversicherung\, das Schwerbehindertenrecht\, den Datenschutz und das Arbeitsvertragsrecht. \nTeilnehmerkreis\nDas Seminar richtet sich an alle Interessenten. \n  \nJetzt anmelden
URL:https://weiterbildung-adwi.de/seminar/neuregelungen-im-arbeits-und-sozialrecht-01-2/
LOCATION:AGENTUR DER WIRTSCHAFT\, Doberaner Straße 112\, Rostock\, 18057\, Deutschland
CATEGORIES:Arbeit und Sozial,Recht,Seminare
ATTACH;FMTTYPE=image/jpeg:https://weiterbildung-adwi.de/wp-content/uploads/2020/03/500_F_253071345_ody19dDGUBj7uGp0rA61ZffDQJ7yJX5y.jpg
GEO:54.092117;12.113716
X-APPLE-STRUCTURED-LOCATION;VALUE=URI;X-ADDRESS=AGENTUR DER WIRTSCHAFT Doberaner Straße 112 Rostock 18057 Deutschland;X-APPLE-RADIUS=500;X-TITLE=Doberaner Straße 112:geo:12.113716,54.092117
END:VEVENT
END:VCALENDAR