BEGIN:VCALENDAR
VERSION:2.0
PRODID:-//Agentur der Wirtschaft - ECPv5.3.2//NONSGML v1.0//EN
CALSCALE:GREGORIAN
METHOD:PUBLISH
X-WR-CALNAME:Agentur der Wirtschaft
X-ORIGINAL-URL:https://weiterbildung-adwi.de
X-WR-CALDESC:Veranstaltungen für Agentur der Wirtschaft
BEGIN:VTIMEZONE
TZID:Europe/Berlin
BEGIN:DAYLIGHT
TZOFFSETFROM:+0100
TZOFFSETTO:+0200
TZNAME:CEST
DTSTART:20240331T010000
END:DAYLIGHT
BEGIN:STANDARD
TZOFFSETFROM:+0200
TZOFFSETTO:+0100
TZNAME:CET
DTSTART:20241027T010000
END:STANDARD
END:VTIMEZONE
BEGIN:VEVENT
DTSTART;TZID=Europe/Berlin:20240415T090000
DTEND;TZID=Europe/Berlin:20240415T163000
DTSTAMP:20260425T161633
CREATED:20200305T131534Z
LAST-MODIFIED:20240212T134939Z
UID:4581-1713171600-1713198600@weiterbildung-adwi.de
SUMMARY:Ja zum Nein
DESCRIPTION:Setze Grenzen – freundlich aber bestimmt\nWir sagen zu selten NEIN. \nIn einer Welt\, die oft von ständiger Zustimmung geprägt ist\, laden wir Sie ein\, die kraftvolle Kunst des „Nein“-Sagens zu meistern. In unserem Seminar „Ja zum Nein“ enthüllen wir die Geheimnisse hinter diesem kleinen Wort mit großer Wirkung und zeigen Ihnen\, wie Sie durch klare Entscheidungen nicht nur Ihre Selbstbestimmung stärken\, sondern auch eine positivere Interaktion mit Ihrem Umfeld erreichen können. \nTreten Sie ein in die faszinierende Welt des selbstbestimmten Entscheidens und erleben Sie\, wie das mutige „Nein“-Sagen zu einem Instrument der Stärke\, des Respekts und der positiven Veränderung werden kann. Willkommen bei einem Seminar\, das Ihnen die Macht verleiht\, mit Zuversicht „Ja zum Nein“ zu sagen und Ihr Leben auf eine neue Ebene zu heben. \n  \nInhalte \n\nErkennen und überwinden mentaler Barrieren Zusammenhänge zwischen verschiedenen Ebenen (körperliche Empfindungen\, Gefühlsebene\, Gedanken\, Umweltreaktionen\, Selbstbild\, Selbstwert) beschreiben\nNegative Gedanken mittels Gedankenstopp abbauen\nPositive Selbstinstruktionen und Signalsätze für herausfordernde Situationen\nEntspannungsverfahren lernen\, um ruhiger und gelassener zu werden\nDas Teufelskreislaufmodell in die Erfolgsspirale umwandeln\nMit eigenen\, inneren Widerständen aktiv umgehen und die Gesetzmäßigkeiten des Unbewussten kennen und beachten\n\nTeilnehmerkreis \nDas Seminar richtet sich an alle die zu selten Nein sagen. \nJetzt anmelden
URL:https://weiterbildung-adwi.de/seminar/ja_zum_nein-04-24/
LOCATION:AGENTUR DER WIRTSCHAFT\, Doberaner Straße 112\, Rostock\, 18057\, Deutschland
CATEGORIES:Persönlichkeit,Seminare
ATTACH;FMTTYPE=image/jpeg:https://weiterbildung-adwi.de/wp-content/uploads/2021/11/Huerden-ueberwinden.jpg
GEO:54.092117;12.113716
X-APPLE-STRUCTURED-LOCATION;VALUE=URI;X-ADDRESS=AGENTUR DER WIRTSCHAFT Doberaner Straße 112 Rostock 18057 Deutschland;X-APPLE-RADIUS=500;X-TITLE=Doberaner Straße 112:geo:12.113716,54.092117
END:VEVENT
END:VCALENDAR