BEGIN:VCALENDAR
VERSION:2.0
PRODID:-//Agentur der Wirtschaft - ECPv5.3.2//NONSGML v1.0//EN
CALSCALE:GREGORIAN
METHOD:PUBLISH
X-WR-CALNAME:Agentur der Wirtschaft
X-ORIGINAL-URL:https://weiterbildung-adwi.de
X-WR-CALDESC:Veranstaltungen für Agentur der Wirtschaft
BEGIN:VTIMEZONE
TZID:Europe/Berlin
BEGIN:DAYLIGHT
TZOFFSETFROM:+0100
TZOFFSETTO:+0200
TZNAME:CEST
DTSTART:20260329T010000
END:DAYLIGHT
BEGIN:STANDARD
TZOFFSETFROM:+0200
TZOFFSETTO:+0100
TZNAME:CET
DTSTART:20261025T010000
END:STANDARD
END:VTIMEZONE
BEGIN:VEVENT
DTSTART;TZID=Europe/Berlin:20260311T090000
DTEND;TZID=Europe/Berlin:20260311T161500
DTSTAMP:20260423T171649
CREATED:20200305T131534Z
LAST-MODIFIED:20251205T145945Z
UID:4979-1773219600-1773245700@weiterbildung-adwi.de
SUMMARY:Was Führen wirklich bedeutet und wie aus Mitarbeitenden echte Führungskräfte werden
DESCRIPTION:Basiswissen für alle Führungskräfte und solche die es werden wollen\nInhalt\nDie Anforderungen an eine Führungspersönlichkeit sind enorm. Sie soll sich engagiert für eine Sache und für die Mitarbeitenden einsetzen\, flexibel für Veränderungen sein\, Details des Arbeitsalltages im Blick haben\, Leistungen einschätzen und gerecht bewerten\, Mitarbeitende fördern und fordern und in Zeiten steigender Belastungen die eigene und die Gesundheit der Mitarbeitenden stets im Blick haben. \nWas aber bedeutet Führen genau? Welche Fähigkeiten braucht es\, um eine wirksame Führungskraft zu sein und welche Aufgaben sind damit verbunden? \nIhr Nutzen\nDas Seminar führt ein in die Welt einer modernen\, professionellen und ressourcenorientierten Führungstätigkeit. Dieses Basiswissen unterstützt ihren Führungsalltag\, fördert Selbstreflexion und unterstützt sie beim Ausbau ihrer Führungskompetenzen. \nMethoden\nDie inhaltliche Arbeit erfolgt teilnehmer- und prozessorientiert. Die individuellen Lernziele sind daher nicht vorgefertigt. Jeder Teilnehmer bekommt individuelle Impulse für den Ausbau seiner Führungskompetenz. Zu den wichtigsten theoretischen Grundlagen und gemeinsamen Arbeitsergebnissen wird nach jeder Veranstaltung ein Script sowie Literaturangaben und -empfehlungen erarbeitet und als Datei zur Verfügung gestellt. \nTeilnehmerkreis\nDas Seminar richtet sich an interessierte Führungskräfte und die es werden wollen. \nJetzt anmelden
URL:https://weiterbildung-adwi.de/seminar/fuehrungsstark-03-2-2-2-3/
LOCATION:AGENTUR DER WIRTSCHAFT\, Doberaner Straße 112\, Rostock\, 18057\, Deutschland
CATEGORIES:Führung,Führungskompetenz,Seminare
ATTACH;FMTTYPE=image/jpeg:https://weiterbildung-adwi.de/wp-content/uploads/2020/03/500_F_228350914_bPzbtdBrfsKvlea7HE7PQ2BB7WCebtb2.jpg
GEO:54.092117;12.113716
X-APPLE-STRUCTURED-LOCATION;VALUE=URI;X-ADDRESS=AGENTUR DER WIRTSCHAFT Doberaner Straße 112 Rostock 18057 Deutschland;X-APPLE-RADIUS=500;X-TITLE=Doberaner Straße 112:geo:12.113716,54.092117
END:VEVENT
END:VCALENDAR