BEGIN:VCALENDAR
VERSION:2.0
PRODID:-//Agentur der Wirtschaft - ECPv5.3.2//NONSGML v1.0//EN
CALSCALE:GREGORIAN
METHOD:PUBLISH
X-WR-CALNAME:Agentur der Wirtschaft
X-ORIGINAL-URL:https://weiterbildung-adwi.de
X-WR-CALDESC:Veranstaltungen für Agentur der Wirtschaft
BEGIN:VTIMEZONE
TZID:Europe/Berlin
BEGIN:DAYLIGHT
TZOFFSETFROM:+0100
TZOFFSETTO:+0200
TZNAME:CEST
DTSTART:20240331T010000
END:DAYLIGHT
BEGIN:STANDARD
TZOFFSETFROM:+0200
TZOFFSETTO:+0100
TZNAME:CET
DTSTART:20241027T010000
END:STANDARD
END:VTIMEZONE
BEGIN:VEVENT
DTSTART;TZID=Europe/Berlin:20240904T090000
DTEND;TZID=Europe/Berlin:20240904T153000
DTSTAMP:20260425T224657
CREATED:20200120T131751Z
LAST-MODIFIED:20240826T115416Z
UID:4763-1725440400-1725463800@weiterbildung-adwi.de
SUMMARY:Excel—Aufbau I
DESCRIPTION:Wichtige Funktionen erlernen\, anwenden und festigen\nIhr Nutzen\nWer häufiger mit Excel arbeitet kommt an der Verwendung von Formeln und Funktionen nicht vorbei. Die richtige Schreibweise und der sinnvolle Einsatz dieser Berechnungsanweisungen stehen hier im Mittelpunkt mit einer Reihe praktischer Anwendungen. \nDer Formelassistent steht als Hilfswerkzeug zu Verfügung. Die Funktionen werden erläutert und notwendige Eingaben abgefragt. Im Seminar werden klassische Funktionen aus der Kategorie Datum und Uhrzeit\, Logik und Verweise behandelt. Sie festigen deren Einsatz für Ihre Berechnungen\, erhalten Anregungen zu neuen Lösungen und stärken Ihr Anwendungspotential in Excel. \nUnsere Aufbaukurse richten sich an Anwender\, die spezielle Kenntnisse vertiefen möchten. Sie können die Kurse nacheinander oder auch nur einzeln buchen\, nehmen Sie sich\, was Sie brauchen. \nWer schon das „Seepferdchen“ hat\, bekommt hier den „Seehund“ als Abzeichen \nInhalte\n\nWas sind Formeln\, was Funktionen\nSyntax der Formeln\, Formelüberprüfungen nutzen\nVerschachtelung von Funktionen\nRechnen mit Namen von Zellen\, Namensmanager kennenlernen\nRechnen mit Datum- und Uhrzeitangaben\nDie logische Funktion WENN() und WENNS()\nDie Verweisfunktion SVERWEIS() und XVERWEIS()\nDatenüberprüfung nutzen\, um fehlerhafte Eingaben zu verhindern\nHäufig verwendete Funktionen\, wie ZÄHLENWENN() oder SUMMEWENN() anwenden\n\nTeilnehmerkreis\nDas Seminar richtet sich an Führungskräfte und Mitarbeiter\, die bereits Erfahrungen mit Excel haben und den Einsatz von Formeln und Funktionen festigen möchten. \nVoraussetzungen\nDas Seminar ist für alle Neugierige offen. Excel Grundlagen sind notwendig. \nJetzt anmelden
URL:https://weiterbildung-adwi.de/seminar/excel-aufbau-i-2024-03-3/
LOCATION:AGENTUR DER WIRTSCHAFT\, Doberaner Straße 112\, Rostock\, 18057\, Deutschland
CATEGORIES:EDV,Excel,Seminare
ATTACH;FMTTYPE=image/jpeg:https://weiterbildung-adwi.de/wp-content/uploads/2020/01/excel-seminar.jpeg
GEO:54.092117;12.113716
X-APPLE-STRUCTURED-LOCATION;VALUE=URI;X-ADDRESS=AGENTUR DER WIRTSCHAFT Doberaner Straße 112 Rostock 18057 Deutschland;X-APPLE-RADIUS=500;X-TITLE=Doberaner Straße 112:geo:12.113716,54.092117
END:VEVENT
END:VCALENDAR