BEGIN:VCALENDAR
VERSION:2.0
PRODID:-//Agentur der Wirtschaft - ECPv5.3.2//NONSGML v1.0//EN
CALSCALE:GREGORIAN
METHOD:PUBLISH
X-WR-CALNAME:Agentur der Wirtschaft
X-ORIGINAL-URL:https://weiterbildung-adwi.de
X-WR-CALDESC:Veranstaltungen für Agentur der Wirtschaft
BEGIN:VTIMEZONE
TZID:Europe/Berlin
BEGIN:DAYLIGHT
TZOFFSETFROM:+0100
TZOFFSETTO:+0200
TZNAME:CEST
DTSTART:20240331T010000
END:DAYLIGHT
BEGIN:STANDARD
TZOFFSETFROM:+0200
TZOFFSETTO:+0100
TZNAME:CET
DTSTART:20241027T010000
END:STANDARD
END:VTIMEZONE
BEGIN:VEVENT
DTSTART;TZID=Europe/Berlin:20240508T090000
DTEND;TZID=Europe/Berlin:20240508T163000
DTSTAMP:20260423T163104
CREATED:20200305T131534Z
LAST-MODIFIED:20240419T111053Z
UID:4585-1715158800-1715185800@weiterbildung-adwi.de
SUMMARY:EINFACH miteinander reden "Konfliktmanagement"
DESCRIPTION:Die Kunst der Konfliktlösung\nWer schweigt\, will dem anderem damit etwas sagen. \nIn einer Welt\, in der Zusammenarbeit und Kommunikation von entscheidender Bedeutung sind\, ist die Fähigkeit\, Konflikte zu erkennen\, anzugehen und konstruktiv zu lösen\, von unschätzbarem Wert. Tauchen Sie mit uns ein in die Kunst des Konfliktmanagements und erwerben Sie praktische Werkzeuge und Erkenntnisse\, um Konflikte in Chancen für Wachstum und positive Veränderungen zu verwandeln. \nIm Seminar geht’s zur Sache. Kurze Theorieblöcke gefolgt von anspruchsvollen Gruppenarbeiten und intensiver Bearbeitung praxisrelevanter Fallbeispiele.\nRaus aus der Komfortzone. Rein in das gute Gefühl eines prozess- und lebensverändernden Konfliktgespräches. \nInhalte \n\nKonfliktarten und Konfliktdynamik – Was passiert wenn nichts passiert.\nKlare Gesprächsstrukturen für individuelle Konfliktfälle\nDas 1×1 der Vorbereitung/ Durchführung & Nachbereitung von Konfliktgesprächen\nDie innere Haltung kennen und ausrichten für maximale Lösungsorientierung\nPersönliche Angriffe in konstruktive Bahnen lenken\nPraxisfälle mit Video Feedback\n\nTeilnehmerkreis \nDas Seminar richtet sich an alle Neugierige. \nJetzt anmelden
URL:https://weiterbildung-adwi.de/seminar/einfach-miteinander-reden_05-24/
LOCATION:AGENTUR DER WIRTSCHAFT\, Doberaner Straße 112\, Rostock\, 18057\, Deutschland
CATEGORIES:Persönlichkeit,Seminare
ATTACH;FMTTYPE=image/jpeg:https://weiterbildung-adwi.de/wp-content/uploads/2020/03/500_F_314817321_NmdzQRRPe8GScIgMuUS4duCdtBMHEkYS.jpg
GEO:54.092117;12.113716
X-APPLE-STRUCTURED-LOCATION;VALUE=URI;X-ADDRESS=AGENTUR DER WIRTSCHAFT Doberaner Straße 112 Rostock 18057 Deutschland;X-APPLE-RADIUS=500;X-TITLE=Doberaner Straße 112:geo:12.113716,54.092117
END:VEVENT
END:VCALENDAR